BEGIN:VCALENDAR
VERSION:2.0
PRODID:-//Gifts Inn Boonsboro - ECPv6.15.17//NONSGML v1.0//EN
CALSCALE:GREGORIAN
METHOD:PUBLISH
X-WR-CALNAME:Gifts Inn Boonsboro
X-ORIGINAL-URL:https://giftsinnboonsboro.com
X-WR-CALDESC:Events for Gifts Inn Boonsboro
REFRESH-INTERVAL;VALUE=DURATION:PT1H
X-Robots-Tag:noindex
X-PUBLISHED-TTL:PT1H
BEGIN:VTIMEZONE
TZID:America/New_York
BEGIN:DAYLIGHT
TZOFFSETFROM:-0500
TZOFFSETTO:-0400
TZNAME:EDT
DTSTART:20180311T070000
END:DAYLIGHT
BEGIN:STANDARD
TZOFFSETFROM:-0400
TZOFFSETTO:-0500
TZNAME:EST
DTSTART:20181104T060000
END:STANDARD
BEGIN:DAYLIGHT
TZOFFSETFROM:-0500
TZOFFSETTO:-0400
TZNAME:EDT
DTSTART:20190310T070000
END:DAYLIGHT
BEGIN:STANDARD
TZOFFSETFROM:-0400
TZOFFSETTO:-0500
TZNAME:EST
DTSTART:20191103T060000
END:STANDARD
BEGIN:DAYLIGHT
TZOFFSETFROM:-0500
TZOFFSETTO:-0400
TZNAME:EDT
DTSTART:20200308T070000
END:DAYLIGHT
BEGIN:STANDARD
TZOFFSETFROM:-0400
TZOFFSETTO:-0500
TZNAME:EST
DTSTART:20201101T060000
END:STANDARD
BEGIN:DAYLIGHT
TZOFFSETFROM:-0500
TZOFFSETTO:-0400
TZNAME:EDT
DTSTART:20210314T070000
END:DAYLIGHT
BEGIN:STANDARD
TZOFFSETFROM:-0400
TZOFFSETTO:-0500
TZNAME:EST
DTSTART:20211107T060000
END:STANDARD
END:VTIMEZONE
BEGIN:VEVENT
DTSTART;TZID=America/New_York:20200130T170000
DTEND;TZID=America/New_York:20200130T200000
DTSTAMP:20260420T084453
CREATED:20200103T161817Z
LAST-MODIFIED:20200103T161817Z
UID:2174-1580403600-1580414400@giftsinnboonsboro.com
SUMMARY:"Talisman" Rhonda J. Smith Opening Reception January 30th 5:00 - 8:00 PM
DESCRIPTION:  \n  \n  \n  \n  \n  \n  \n  \nRhonda Smith\, an artist and retired Professor of Art from Shepherdstown University\, comes to her creations from odd angles. Her intaglio and Lino prints are impressed onto archival paper through an intricate process of slathering plates with non-toxic inks and over-printing them\, a process as unexpected and exciting as the travels that prompted it. She is fascinated with talismans\, charms for invoking luck and protection. Whether the journey is literal\, artistic or self-discovery\, the knowledge\, experience and surprises all become part of who we are and contribute to more complex being who comes home. Rhonda believes that art demands that both artist and viewer share a quest to find understanding in the art piece\, and that the art itself is a talisman\, a wish\, a prayer that connects the creator and the observer.\nThe Talismans Exhibition will open with a reception at GIB on Thursday January 30th from 5-8 (snow date February 20th)\, with the artwork on display until February 29th. Save the date now to see these evocative\, thought-provoking pieces and their delightful creator\, while enjoying champagne and light refreshments.
URL:https://giftsinnboonsboro.com/event/talisman-rhonda-j-smith-opening-reception-january-30th-500-800-pm/
LOCATION:Gifts Inn Boonsboro\, 16 N. Main St.\, Boonsboro\, MD\, 21713\, United States
CATEGORIES:Opening Reception
END:VEVENT
BEGIN:VEVENT
DTSTART;TZID=America/New_York:20191026T110000
DTEND;TZID=America/New_York:20191125T130000
DTSTAMP:20260420T084453
CREATED:20190917T212505Z
LAST-MODIFIED:20190917T212505Z
UID:1819-1572087600-1574686800@giftsinnboonsboro.com
SUMMARY:'Bloom: Modern Floral Paintings by Clarie Hardy'
DESCRIPTION:  \n \nClaire Hardy grew up in California\, where an art teacher taught her how shading can create the illusion of form. Her hauntingly beautiful oil paintings (favorites of Nora!) prove what an apt pupil she proved to be. She continues to study and experiment with oils\, always eager to learn from the next painting.                                                        Claire will be our featured artist through November 25th.
URL:https://giftsinnboonsboro.com/event/bloom-modern-floral-paintings-by-clarie-hardy/
CATEGORIES:Opening Reception
END:VEVENT
BEGIN:VEVENT
DTSTART;TZID=America/New_York:20190914T100000
DTEND;TZID=America/New_York:20191017T180000
DTSTAMP:20260420T084453
CREATED:20190806T212156Z
LAST-MODIFIED:20190905T165403Z
UID:1523-1568455200-1571335200@giftsinnboonsboro.com
SUMMARY:'Abstracts in Ink' Opening Reception September 14th 11AM-3PM
DESCRIPTION:  \n                                                                   \nNew works by Moonstone Muse \nStacy’s career trajectory has been far from linear. She began her career as a graphic designer; soon after she morphed into a web/database application programmer. From there\, Stacy switched gears and was a non-fiction storyteller and technical writer for a NASA contractor\, writing about Near-Earth asteroids and the scientific experiments on board the International Space Station. Stacy has provided project management\, creative direction and technical guidance for eLearning and learning-centered content. Currently she’s a sales proposal writer by day and an inventor/artist/industrial designer by night. Stacy’s art and jewelry are abstract\, original and affordable.  As writing is a fairly structured process\, Stacy favors abstract and free-form art where she can work with her hands. The items in our shop are the result of  experimentation and play\, and it shows.
URL:https://giftsinnboonsboro.com/event/abstracts-in-ink-opening-reception-september-14th-11am-3pm/
LOCATION:Gifts Inn Boonsboro\, 16 N. Main St.\, Boonsboro\, MD\, 21713\, United States
CATEGORIES:Exhibit on Display,Opening Reception
END:VEVENT
BEGIN:VEVENT
DTSTART;TZID=America/New_York:20190711T080000
DTEND;TZID=America/New_York:20190711T170000
DTSTAMP:20260420T084453
CREATED:20190711T171014Z
LAST-MODIFIED:20190711T174655Z
UID:1392-1562832000-1562864400@giftsinnboonsboro.com
SUMMARY:"Life & Dreams" Opening Reception
DESCRIPTION:  \n“Life & Dreams” Paintings and Photographs By Abigail G. Richon                                            July 21 – August 31\, 2019                                                                                                      \nOpening Reception July 21\, 2019 \nGIB is proud to present the alluring work of Abigail G. Richon.  Abigail’s work hangs in the state capitol in Annapolis and galleries all across the state\, including our own Washington County Museum of Fine Arts. Abigail says she is ‘inspired and enthralled’ by nature\, whose beauty she endeavors to translate from our magnificent Maryland outdoors right into the home.\nAbigail’s opening reception will take place here at the shop on Sunday July 21st from 1-3. We’ll have light refreshments\, our attentive staff and the Artist Herself\, ready to chat and discuss her craft with you.\nOur quest to connect you with local talent continues!
URL:https://giftsinnboonsboro.com/event/life-dreams-opening-reception/
CATEGORIES:Exhibit on Display,Meet the Artist,Opening Reception
END:VEVENT
BEGIN:VEVENT
DTSTART;TZID=America/New_York:20190406T130000
DTEND;TZID=America/New_York:20190406T150000
DTSTAMP:20260420T084453
CREATED:20190322T174302Z
LAST-MODIFIED:20190322T174302Z
UID:979-1554555600-1554562800@giftsinnboonsboro.com
SUMMARY:New works by local artists Jannon Baer & Sharon Benoit
DESCRIPTION:Waking Dreams by Jannon Baer and True to Life by Sharon Benoit \n Inspire both the left and right sides of your brain with this explosive art exhibit by two equally brilliant but very different painters. Jannon’s abstracts spark sheer delight in the imagination\, while Sharon’s detailed idylls evoke memories of quiet bliss. \nWorks from these local artists will be on display at Inn Boonsboro\, open to the public on April 6th from 1-3. Come meet the artists and enjoy the beauty of their craft against the spectacular backdrop of the Inn. \nAcrylic Painting by Jannon Baer \nJannon is a visual artist with a passion for dance. She received her Bachelor of Fine Arts Degree in Painting from Shepherd University. As a freelance painter\, Jannon has displayed artwork in Baltimore and Western Maryland. Recent exhibitions have included the Himmelfarb Gallery at Maryland University for Integrative Health (formerly Tai Sophia) of Laurel\, Sunlight Natural Health of Timonium\, Expanding Heart Center Gallery of Frederick\, Regenerate Float Center of Hagerstown\, and Washington County Arts Council Gallery. Jannon enjoys combining meditative practices with dance as an offering for healing and to embrace rich traditions of cultural art forms. Jannon is a member of Hagerstown Artists Group\, a local art organization which works to connect local artists to share ideas and positively impact the community through the arts. Jannon has been an in-home companion for the elderly for the past year. Within the past year\, she has teamed up with local drum facilitators from Frederick to offer dance movement for residents in local assisted living centers. \nWatercolor Painting by Sharon Benoit \nSharon Benoit has migrated up the coast from the lower Eastern Shore\, through her study at the Arrowmont School of Arts and Crafts in the Smoky Mountains\, to Frederick Community College\, and has landed in Knoxville MD with her family\, in easy reach of the Potomac. Her passion is watercolors\, but she has also studied commercial illustration\, acrylics\, wearable art\, 2&3 dimensional stitchery\, weaving\, batik\, tie-dy\, cast & applique jewelry\, polymer clay and stoneware pottery. Her detailed watercolors have won top awards at the Washington County Museum of Fine Arts\, the Great Frederick Fair\, and the Salisbury Institute for Art\, and she has exhibited at a dozen local venues. She tells us that she describes her work simply as ‘realism’. Being outdoors in farm country\, or walking by her beloved Potomac River\, or enjoying the beaches of her youth\, is where she finds her inspiration.
URL:https://giftsinnboonsboro.com/event/new-works-by-local-artists-jannon-baer-sharon-benoit/
LOCATION:Inn Boonsboro
CATEGORIES:Opening Reception
END:VEVENT
END:VCALENDAR