BEGIN:VCALENDAR
VERSION:2.0
PRODID:-//Gifts Inn Boonsboro - ECPv6.15.17//NONSGML v1.0//EN
CALSCALE:GREGORIAN
METHOD:PUBLISH
X-WR-CALNAME:Gifts Inn Boonsboro
X-ORIGINAL-URL:https://giftsinnboonsboro.com
X-WR-CALDESC:Events for Gifts Inn Boonsboro
REFRESH-INTERVAL;VALUE=DURATION:PT1H
X-Robots-Tag:noindex
X-PUBLISHED-TTL:PT1H
BEGIN:VTIMEZONE
TZID:America/New_York
BEGIN:DAYLIGHT
TZOFFSETFROM:-0500
TZOFFSETTO:-0400
TZNAME:EDT
DTSTART:20250309T070000
END:DAYLIGHT
BEGIN:STANDARD
TZOFFSETFROM:-0400
TZOFFSETTO:-0500
TZNAME:EST
DTSTART:20251102T060000
END:STANDARD
BEGIN:DAYLIGHT
TZOFFSETFROM:-0500
TZOFFSETTO:-0400
TZNAME:EDT
DTSTART:20260308T070000
END:DAYLIGHT
BEGIN:STANDARD
TZOFFSETFROM:-0400
TZOFFSETTO:-0500
TZNAME:EST
DTSTART:20261101T060000
END:STANDARD
BEGIN:DAYLIGHT
TZOFFSETFROM:-0500
TZOFFSETTO:-0400
TZNAME:EDT
DTSTART:20270314T070000
END:DAYLIGHT
BEGIN:STANDARD
TZOFFSETFROM:-0400
TZOFFSETTO:-0500
TZNAME:EST
DTSTART:20271107T060000
END:STANDARD
END:VTIMEZONE
BEGIN:VEVENT
DTSTART;TZID=America/New_York:20260502T130000
DTEND;TZID=America/New_York:20260502T150000
DTSTAMP:20260420T122221
CREATED:20260317T180955Z
LAST-MODIFIED:20260415T170255Z
UID:17003-1777726800-1777734000@giftsinnboonsboro.com
SUMMARY:'Hats Off To Spring!' Workshop - At Pathfinder Distillery's Tasting Room
DESCRIPTION:🌸🌼 Step into a world of blossoming creativity! 🌼🌸 \nWe cordially invite you to a delightful celebration of springtime splendor\, where imagination takes flight at our enchanting DIY hat decorating event that promises fun and inspiration. Join Gifts Inn Boonsboro and Pathfinder Distillery Tasting Room for an unforgettable experience at “Hats Off To Spring!” \nImmerse yourself in a colorful array of embellishments as we provide the canvas—your very own hat—to transform into a masterpiece. With local artists as your guides\, this promises to be a joyful journey of artistic expression. Bring along a cherished piece of jewelry or an accessory to give your creation a personal touch! Plus\, you can take your hat with you at the end as a cherished keepsake. \nSecure your spot in this floral fantasia for only $45! Give us a call at 301-432-0090. \nWhere: Pathfinder Distillery Tasting Room\, 14 S Main St\, Boonsboro\, MD 21713 \nWhen: May 2nd\, 2026 \nTime: 1 p.m. – 3 p.m. \nCost: $45 \nSavor a complimentary first drink from Pathfinder\, and enjoy a selection of snacks to keep your creative energy blossoming. Don’t miss this chance to embrace spring’s vibrant spirit in style! 🌷✨
URL:https://giftsinnboonsboro.com/event/hats-off-to-spring-workshop-at-pathfinder-distillerys-tasting-room/
CATEGORIES:Demostration,Event at Pathfinder Distillery Tasting Room,Workshop
ATTACH;FMTTYPE=image/png:https://giftsinnboonsboro.com/wp-content/uploads/2026/03/Screenshot-2026-03-17-at-14-56-08-Hats-of-to-Spring-2026-Postcard-US.png
END:VEVENT
END:VCALENDAR